Workbook

Sheet 00_Cockpit
B2: URBANSTREET
B4: Wasserschlosspark Untersiggenthal
B5: Kennwerte, Renditebewertung und Residualwert — Version Concierge ACE
B7: Steigstrasse 20, 5417 Untersiggenthal · Stand 28. September 2026 · Ertragswert- und DCF-Verfahren, Residualwertmethode · indikativ
B10: ERGEBNIS IM AKTIVEN SZENARIO
B11: Kennzahl | C11: Wert | D11: Einheit | E11: Bemerkung
B12: Aktives Szenario | C12: =08_Annahmen!$D$5 -> Basis | E12: 1 Konservativ · 2 Basis · 3 Topsegment · 4 Individuell (Blatt 08, Zelle C5)
B13: Hauptnutzfläche HNF | C13: =12_Ertragsrechnung!$E$25 -> 22228.01 | D13: m² | E13: inkl. Concierge ACE 4'121 m²
B14: Volumen GV oi+ui | C14: =01_Kennwerte!$O$12 -> 172872.89 | D14: m³ | E14: Masterplan ACE
B15: Sollmietertrag pro Jahr | C15: =12_Ertragsrechnung!$H$25 -> 8254797.2 | D15: CHF | E15: netto ohne NK, inkl. Parking, Saal
B16: Nettoertrag pro Jahr | C16: =12_Ertragsrechnung!$N$25 -> 6632650.3 | D16: CHF | E16: nach Mietzinsausfall und Bewirtschaftung
B17: Ertragswert stabilisiert | C17: =13_Bewertung!$G$26 -> 1.6227232e+08 | D17: CHF | E17: Nettoertrag ÷ Kapitalisierungssatz je Nutzung
B18: DCF-Marktwert inkl. Erstvermietung | C18: =13_Bewertung!$J$26 -> 1.5408768e+08 | D18: CHF | E18: mit Erstvermietungsphase und Exit-Zuschlag
B19: Bruttorendite auf Ertragswert | C19: =12_Ertragsrechnung!$H$25/13_Bewertung!$G$26 -> 0.050870027 | E19: Ergebnis, nicht Eingabe
B20: Nettorendite auf Ertragswert | C20: =12_Ertragsrechnung!$N$25/13_Bewertung!$G$26 -> 0.040873578
B21: Anlagevolumen (AK möglich) | C21: =16_Residualwert!$I$21 -> 179.56222 | D21: Mio CHF | E21: A–D gemäss Budgetplanung + Concierge ACE
B22: EK notwendig neu | C22: =16_Residualwert!$H$21 -> 109.17086 | D22: Mio CHF | E22: UG CHF 500/m³, oberirdisch bisheriger Kennwert
B23: Residualwert (AK-Basis) | C23: =16_Residualwert!$M$21 -> 63.391363 | D23: Mio CHF | E23: bisher 40.0 Mio (Budgetplanung)
B24: Residualwert (Ertragswert-Basis) | C24: =16_Residualwert!$N$21 -> 46.101459 | D24: Mio CHF | E24: alle Baufelder im Bestand bewertet
B27: ERGEBNIS NACH PHASE
B28: Phase | C28: HNF m² | D28: Sollertrag CHF | E28: Nettoertrag CHF | F28: Ertragswert CHF | G28: Bruttorendite
B29: Phase A · Villette I inkl. TG Villette | C29: =13_Bewertung!$D$31 -> 3614.4 | D29: =13_Bewertung!$E$31 -> 1207226.5 | E29: =13_Bewertung!$F$31 -> 1027755.3 | F29: =13_Bewertung!$G$31 -> 29723702 | G29: =13_Bewertung!$H$31 -> 0.040614944
B30: Phase B · Concierge ACE + Spitex Umbau inkl. öffentliche TG | C30: =13_Bewertung!$D$32 -> 4921.5996 | D30: =13_Bewertung!$E$32 -> 2174758 | E30: =13_Bewertung!$F$32 -> 1628423.3 | F30: =13_Bewertung!$G$32 -> 35847176 | G30: =13_Bewertung!$H$32 -> 0.060667484
B31: Phase D · Campus Small + Campus Medium | C31: =13_Bewertung!$D$33 -> 6442.81 | D31: =13_Bewertung!$E$33 -> 2450135.9 | E31: =13_Bewertung!$F$33 -> 1913970.8 | F31: =13_Bewertung!$G$33 -> 37048441 | G31: =13_Bewertung!$H$33 -> 0.066133306
B32: Phase C · Villette II | C32: =13_Bewertung!$D$34 -> 7249.2 | D32: =13_Bewertung!$E$34 -> 2422676.8 | E32: =13_Bewertung!$F$34 -> 2062500.9 | F32: =13_Bewertung!$G$34 -> 59653000 | G32: =13_Bewertung!$H$34 -> 0.040612824
B33: TOTAL | C33: =13_Bewertung!$D$35 -> 22228.01 | D33: =13_Bewertung!$E$35 -> 8254797.2 | E33: =13_Bewertung!$F$35 -> 6632650.3 | F33: =13_Bewertung!$G$35 -> 1.6227232e+08 | G33: =13_Bewertung!$H$35 -> 0.050870027
B35: CONCIERGE ACE — NEUE ERTRAGSQUELLEN
B36: Position | C36: Sollertrag CHF/Jahr | D36: Nettoertrag CHF/Jahr | E36: Ertragswert CHF | F36: Kap.satz
B37: Studios und Residenzen (35 Einheiten) | C37: =12_Ertragsrechnung!$H$11 -> 715029.14 | D37: =12_Ertragsrechnung!$N$11 -> 593474.19 | E37: =13_Bewertung!$G$12 -> 15617742 | F37: =13_Bewertung!$F$12 -> 0.038
B38: Gewerbe EG | C38: =12_Ertragsrechnung!$H$12 -> 204153.83 | D38: =12_Ertragsrechnung!$N$12 -> 177613.83 | E38: =13_Bewertung!$G$13 -> 3171675.6 | F38: =13_Bewertung!$F$13 -> 0.056
B39: Eventsaal UG (Betriebsmodell) | C39: =12_Ertragsrechnung!$H$13 -> 580000 | D39: =12_Ertragsrechnung!$N$13 -> 319000 | E39: =13_Bewertung!$G$14 -> 4833333.3 | F39: =13_Bewertung!$F$14 -> 0.066
B40: Öffentliche TG 101 PP (Parkpay, ABB) | C40: =12_Ertragsrechnung!$H$14 -> 385680 | D40: =12_Ertragsrechnung!$N$14 -> 296973.6 | E40: =13_Bewertung!$G$15 -> 5939472 | F40: =13_Bewertung!$F$15 -> 0.05
B41: Total Concierge ACE | C41: =SUM(C37:C40) -> 1884863 | D41: =SUM(D37:D40) -> 1387061.6 | E41: =SUM(E37:E40) -> 29562223
B44: BEWERTUNGSANSATZ
B45: Bewertungsobjekt | C45: Sämtliche Etappen und Teilgebiete des Wasserschlossparks als Renditeliegenschaft im Bestand, mit der aktuellen Projektversion Concierge ACE (Eventsaal im UG, Gewerbe EG, 19 Studios und 16 Residenzen, öffentliche Tiefgarage mit 101 PP).
B48: Mietansatz | C48: Nutzungsspezifisch aus den hedonischen Referenzwerten von Fahrländer Partner für Untersiggenthal, korrigiert um Wohnungsgrösse (Degression), Ausbaustandard und Mikrolage. Eventsaal und öffentliche TG nach Betriebsmodell (Blatt 08).
B51: Wertermittlung | C51: Direktkapitalisierung des Nettoertrags je Nutzung; Gegenrechnung mit zehnjährigem DCF. Residualwert = AK möglich − EK (UG CHF 500/m³, oberirdisch bisheriger Kennwert, Concierge CHF 700/m³) − Masterplan/NK/VK/Zins.
B54: Wesentliche Vorbehalte | C54: Absorption in einer Gemeinde mit 7'873 Einwohnern bleibt der kritische Punkt (FPRE: +19 Mietwohnungen p.a., Geschäftsflächen bis 2040 negativ). Neu: Betreiberrisiko Eventsaal und Abhängigkeit der TG-Erträge von einem Rahmenvertrag mit ABB — beides in der Sensitivität (Blatt 15) abgebildet.
B58: Erstellt von Urbanstreet AG · Marktdaten Fahrländer Partner AG (Gemeindecheck Untersiggenthal, 3. Q. 2026) · Flächen aus Übersichtstabelle Kennwerte WSP (bereinigt, 28.09.2026) · indikativ, kein Schätzungsgutachten nach SVS oder RICS.

Sheet 01_Kennwerte
B2: Projektkennwerte aktuell – Version Concierge ACE
B3: Masterplan-Stand · Flächen m², Volumen m³ · Quelle: 202_Übersichtstabelle_Kennwerte_WSP (bereinigte Fassung 28.09.2026), Blatt «nach Masterplan ACE»
B5: Nr. | C5: Baufeld | D5: Teilprojekt | E5: GF oi Wohnen m² | F5: GF oi Gewerbe m² | G5: GF oi Total m² | H5: HNF Wohnen m² | I5: HNF Gewerbe m² | J5: HNF Total m² | K5: GV oi m³ | L5: GF ui m² | M5: GV ui m³ | N5: GF oi+ui m² | O5: GV oi+ui m³ | P5: PP oi | Q5: PP ui | R5: PP Total | S5: Einheiten Wohnen* | T5: Einheiten Gewerbe/Büro*
B6: 1 | C6: A | D6: Villette 1 BE | E6: 5324 | F6: 0 | G6: =E6+F6 -> 5324 | H6: 3614 | I6: 0 | J6: =H6+I6 -> 3614 | K6: 19115 | L6: 3494 | M6: 12246 | N6: =G6+L6 -> 8818 | O6: =K6+M6 -> 31361 | P6: 6 | Q6: 55 | R6: =P6+Q6 -> 61 | S6: =SUMIFS(02_Flächenspiegel!$K$19:$K$200,02_Flächenspiegel!$B$19:$B$200,D6,02_Flächenspiegel!$D$19:$D$200,"Wohnen") -> 24 | T6: =SUMIFS(02_Flächenspiegel!$K$19:$K$200,02_Flächenspiegel!$B$19:$B$200,D6,02_Flächenspiegel!$D$19:$D$200,"<>Wohnen") -> 0
B7: 2 | C7: B | D7: Spitex Umbau | E7: 1009 | F7: 0 | G7: =E7+F7 -> 1009 | H7: 801 | I7: 0 | J7: =H7+I7 -> 801 | K7: 3064 | L7: 373 | M7: 1230 | N7: =G7+L7 -> 1382 | O7: =K7+M7 -> 4294 | P7: 14 | Q7: 0 | R7: =P7+Q7 -> 14 | S7: =SUMIFS(02_Flächenspiegel!$K$19:$K$200,02_Flächenspiegel!$B$19:$B$200,D7,02_Flächenspiegel!$D$19:$D$200,"Wohnen") -> 13 | T7: =SUMIFS(02_Flächenspiegel!$K$19:$K$200,02_Flächenspiegel!$B$19:$B$200,D7,02_Flächenspiegel!$D$19:$D$200,"<>Wohnen") -> 0
B8: 3 | C8: C | D8: Villette 2 W3 | E8: 10785 | F8: 0 | G8: =E8+F8 -> 10785 | H8: 7249 | I8: 0 | J8: =H8+I8 -> 7249 | K8: 36949 | L8: 4870 | M8: =L8*3.2 -> 15584 | N8: =G8+L8 -> 15655 | O8: =K8+M8 -> 52533 | P8: 0 | Q8: 80 | R8: =P8+Q8 -> 80 | S8: =SUMIFS(02_Flächenspiegel!$K$19:$K$200,02_Flächenspiegel!$B$19:$B$200,D8,02_Flächenspiegel!$D$19:$D$200,"Wohnen") -> 48 | T8: =SUMIFS(02_Flächenspiegel!$K$19:$K$200,02_Flächenspiegel!$B$19:$B$200,D8,02_Flächenspiegel!$D$19:$D$200,"<>Wohnen") -> 0
B9: 4 | C9: B | D9: Concierge ACE | E9: 2167.815 | F9: 2903.215 | G9: =E9+F9 -> 5071.03 | H9: 1775.93 | I9: 2345.42 | J9: =H9+I9 -> 4121.35 | K9: =6523.34+11295.55 -> 17818.89 | L9: 3947.76 | M9: 17764 | N9: =G9+L9 -> 9018.79 | O9: =K9+M9 -> 35582.89 | P9: 0 | Q9: 101 | R9: =P9+Q9 -> 101 | S9: =SUMIFS(02_Flächenspiegel!$K$19:$K$200,02_Flächenspiegel!$B$19:$B$200,D9,02_Flächenspiegel!$D$19:$D$200,"Wohnen") -> 35 | T9: =SUMIFS(02_Flächenspiegel!$K$19:$K$200,02_Flächenspiegel!$B$19:$B$200,D9,02_Flächenspiegel!$D$19:$D$200,"<>Wohnen") -> 2
B10: 5 | C10: D | D10: Campus Medium | E10: 0 | F10: 5099 | G10: =E10+F10 -> 5099 | H10: 0 | I10: 3903 | J10: =H10+I10 -> 3903 | K10: 23000 | L10: 1773 | M10: 6278 | N10: =G10+L10 -> 6872 | O10: =K10+M10 -> 29278 | P10: 24 | Q10: 30 | R10: =P10+Q10 -> 54 | S10: =SUMIFS(02_Flächenspiegel!$K$19:$K$200,02_Flächenspiegel!$B$19:$B$200,D10,02_Flächenspiegel!$D$19:$D$200,"Wohnen") -> 36 | T10: =SUMIFS(02_Flächenspiegel!$K$19:$K$200,02_Flächenspiegel!$B$19:$B$200,D10,02_Flächenspiegel!$D$19:$D$200,"<>Wohnen") -> 36
B11: 6 | C11: D | D11: Campus Small | E11: 0 | F11: 3482 | G11: =E11+F11 -> 3482 | H11: 0 | I11: 2540 | J11: =H11+I11 -> 2540 | K11: 15620 | L11: 1188 | M11: 4204 | N11: =G11+L11 -> 4670 | O11: =K11+M11 -> 19824 | P11: 13 | Q11: 18 | R11: =P11+Q11 -> 31 | S11: =SUMIFS(02_Flächenspiegel!$K$19:$K$200,02_Flächenspiegel!$B$19:$B$200,D11,02_Flächenspiegel!$D$19:$D$200,"Wohnen") -> 22 | T11: =SUMIFS(02_Flächenspiegel!$K$19:$K$200,02_Flächenspiegel!$B$19:$B$200,D11,02_Flächenspiegel!$D$19:$D$200,"<>Wohnen") -> 24
D12: Total Wasserschlosspark | E12: =SUM(E6:E11) -> 19285.815 | F12: =SUM(F6:F11) -> 11484.215 | G12: =SUM(G6:G11) -> 30770.03 | H12: =SUM(H6:H11) -> 13439.93 | I12: =SUM(I6:I11) -> 8788.42 | J12: =SUM(J6:J11) -> 22228.35 | K12: =SUM(K6:K11) -> 115566.89 | L12: =SUM(L6:L11) -> 15645.76 | ... T12: =SUM(T6:T11) -> 62
B14: Nutzungsmix
B15: Nutzung | E15: Anteil GF oi | F15: Anteil HNF
B16: Wohnen | E16: =E12/G12 -> 0.62677271 | F16: =H12/J12 -> 0.60463012
B17: Gewerbe | E17: =F12/G12 -> 0.37322729 | F17: =I12/J12 -> 0.39536988
B19: Nutzungskategorien wie in der Quelle: Campus (Gewerbe, Büro, Wotel) als «Gewerbe». Concierge ACE: «Gewerbe» = Eventsaal UG + Gewerbe EG, «Wohnen» = Studios und Residenzen OG1/OG2.
B20: * Einheiten aus Blatt 02 (vermietbar; Gemeinschaftszonen Spitex nicht gezählt). Blau = Quelle · Schwarz = Formel · Grün = Verknüpfung · gelb hinterlegt = Concierge ACE.

Sheet 02_Flächenspiegel
B2: Flächenspiegel nach Teilprojekt – Version Concierge ACE
B3: HNF je Einheitstyp · oben Summen je Teilprojekt, unten Detail · Quelle: 202_Übersichtstabelle_Kennwerte_WSP (bereinigt), Blatt «Flächenspiegel nach Teilprojekt»
B5: Teilprojekt | E5: HNF Gewerbe m² | F5: HNF Büro m² | G5: HNF Wohnen m² | H5: HNF Total m² | I5: Einheiten | J5: HNF Blatt 01 m² | K5: Differenz m²
B6: Villette 1 BE | E6: =SUMIFS($J$19:$J$200,$B$19:$B$200,$B6,$D$19:$D$200,"Gewerbe") -> 0 | F6: =SUMIFS($J$19:$J$200,$B$19:$B$200,$B6,$D$19:$D$200,"Büro") -> 0 | G6: =SUMIFS($J$19:$J$200,$B$19:$B$200,$B6,$D$19:$D$200,"Wohnen") -> 3614.4 | H6: =E6+F6+G6 -> 3614.4 | I6: =SUMIFS($K$19:$K$200,$B$19:$B$200,$B6) -> 24 | J6: =INDEX(01_Kennwerte!$J:$J,MATCH($B6,01_Kennwerte!$D:$D,0)) -> 3614 | K6: =H6-J6 -> 0.4
B7: Spitex Umbau | E7: =SUMIFS($J$19:$J$200,$B$19:$B$200,$B7,$D$19:$D$200,"Gewerbe") -> 0 | F7: =SUMIFS($J$19:$J$200,$B$19:$B$200,$B7,$D$19:$D$200,"Büro") -> 0 | G7: =SUMIFS($J$19:$J$200,$B$19:$B$200,$B7,$D$19:$D$200,"Wohnen") -> 800.86 | H7: =E7+F7+G7 -> 800.86 | I7: =SUMIFS($K$19:$K$200,$B$19:$B$200,$B7) -> 13 | J7: =INDEX(01_Kennwerte!$J:$J,MATCH($B7,01_Kennwerte!$D:$D,0)) -> 801 | K7: =H7-J7 -> -0.14
B8: Villette 2 W3 | E8: =SUMIFS($J$19:$J$200,$B$19:$B$200,$B8,$D$19:$D$200,"Gewerbe") -> 0 | F8: =SUMIFS($J$19:$J$200,$B$19:$B$200,$B8,$D$19:$D$200,"Büro") -> 0 | G8: =SUMIFS($J$19:$J$200,$B$19:$B$200,$B8,$D$19:$D$200,"Wohnen") -> 7249.2 | H8: =E8+F8+G8 -> 7249.2 | I8: =SUMIFS($K$19:$K$200,$B$19:$B$200,$B8) -> 48 | J8: =INDEX(01_Kennwerte!$J:$J,MATCH($B8,01_Kennwerte!$D:$D,0)) -> 7249 | K8: =H8-J8 -> 0.2
B9: Concierge ACE | E9: =SUMIFS($J$19:$J$200,$B$19:$B$200,$B9,$D$19:$D$200,"Gewerbe") -> 2345.42 | F9: =SUMIFS($J$19:$J$200,$B$19:$B$200,$B9,$D$19:$D$200,"Büro") -> 0 | G9: =SUMIFS($J$19:$J$200,$B$19:$B$200,$B9,$D$19:$D$200,"Wohnen") -> 1775.3196 | H9: =E9+F9+G9 -> 4120.7396 | I9: =SUMIFS($K$19:$K$200,$B$19:$B$200,$B9) -> 37 | J9: =INDEX(01_Kennwerte!$J:$J,MATCH($B9,01_Kennwerte!$D:$D,0)) -> 4121.35 | K9: =H9-J9 -> -0.6104
B10: Campus Medium | E10: =SUMIFS($J$19:$J$200,$B$19:$B$200,$B10,$D$19:$D$200,"Gewerbe") -> 1590.37 | F10: =SUMIFS($J$19:$J$200,$B$19:$B$200,$B10,$D$19:$D$200,"Büro") -> 1095.44 | G10: =SUMIFS($J$19:$J$200,$B$19:$B$200,$B10,$D$19:$D$200,"Wohnen") -> 1216.72 | H10: =E10+F10+G10 -> 3902.53 | I10: =SUMIFS($K$19:$K$200,$B$19:$B$200,$B10) -> 72 | J10: =INDEX(01_Kennwerte!$J:$J,MATCH($B10,01_Kennwerte!$D:$D,0)) -> 3903 | K10: =H10-J10 -> -0.47
B11: Campus Small | E11: =SUMIFS($J$19:$J$200,$B$19:$B$200,$B11,$D$19:$D$200,"Gewerbe") -> 1020.12 | F11: =SUMIFS($J$19:$J$200,$B$19:$B$200,$B11,$D$19:$D$200,"Büro") -> 718.92 | G11: =SUMIFS($J$19:$J$200,$B$19:$B$200,$B11,$D$19:$D$200,"Wohnen") -> 801.24 | H11: =E11+F11+G11 -> 2540.28 | I11: =SUMIFS($K$19:$K$200,$B$19:$B$200,$B11) -> 46 | J11: =INDEX(01_Kennwerte!$J:$J,MATCH($B11,01_Kennwerte!$D:$D,0)) -> 2540 | K11: =H11-J11 -> 0.28
B12: Total Wasserschlosspark | E12: =SUM(E6:E11) -> 4955.91 | F12: =SUM(F6:F11) -> 1814.36 | G12: =SUM(G6:G11) -> 15457.74 | H12: =SUM(H6:H11) -> 22228.01 | I12: =SUM(I6:I11) -> 240 | J12: =SUM(J6:J11) -> 22228.35 | K12: =SUM(K6:K11) -> -0.3404
B13: Differenzen < 1 m² = Rundung zwischen Flächenspiegel (HNF × Stk.) und Masterplan-Tabelle.
B14: ¹ OG1/OG2 ohne Typ in der Quelle; gemäss Vorgabe Zin (28.09.2026) als Residenzen. Aufteilung in Einheiten mit Ø 77.5 m² (Mix bisheriges Concierge: 4.5/3.5/6×2.5 Zi.) – Annahme.
B15: Eventsaal: UG-Gewerbefläche, ins Erdreich abgesenkt, doppelgeschossig (GV 5'103 m³ auf GF 1'134 m² ≈ 4.5 m lichte Höhe, Blatt «nach Teilprojekt» der Originaldatei).
B18: Teilprojekt | C18: Geschoss | D18: Nutzung | E18: Typ | F18: HNF je Einheit m² | G18: Stk. | H18: vermietbar (1/0) | J18: HNF Total m² | K18: Einheiten
B19: Campus Small | C19: EG | D19: Gewerbe | E19: Typ1 | F19: 511.77 | G19: 1 | H19: 1 | J19: =F19*G19 -> 511.77 | K19: =G19*H19 -> 1
B20: Campus Small | C20: EG | D20: Gewerbe | E20: Typ2 | F20: 228.62 | G20: 1 | H20: 1 | J20: =F20*G20 -> 228.62 | K20: =G20*H20 -> 1
B21: Campus Small | C21: EG | D21: Gewerbe | E21: Typ3 | F21: 166.33 | G21: 1 | H21: 1 | J21: =F21*G21 -> 166.33 | K21: =G21*H21 -> 1
B22: Campus Small | C22: EG | D22: Gewerbe | E22: Typ4 | F22: 113.4 | G22: 1 | H22: 1 | J22: =F22*G22 -> 113.4 | K22: =G22*H22 -> 1
B23: Campus Small | C23: OG | D23: Büro | E23: Typ1 | F23: 43.05 | G23: 4 | H23: 1 | J23: =F23*G23 -> 172.2 | K23: =G23*H23 -> 4
B24: Campus Small | C24: OG | D24: Büro | E24: Typ2 | F24: 42.55 | G24: 4 | H24: 1 | J24: =F24*G24 -> 170.2 | K24: =G24*H24 -> 4
B25: Campus Small | C25: OG | D25: Büro | E25: Typ3 | F25: 41.95 | G25: 4 | H25: 1 | J25: =F25*G25 -> 167.8 | K25: =G25*H25 -> 4
B26: Campus Small | C26: OG | D26: Büro | E26: Typ4 | F26: 26.09 | G26: 8 | H26: 1 | J26: =F26*G26 -> 208.72 | K26: =G26*H26 -> 8
B27: Campus Small | C27: AT | D27: Wohnen | E27: Wotel Typ1 | F27: 53.56 | G27: 4 | H27: 1 | J27: =F27*G27 -> 214.24 | K27: =G27*H27 -> 4
B28: Campus Small | C28: AT | D28: Wohnen | E28: Wotel Typ2 | F28: 42.88 | G28: 4 | H28: 1 | J28: =F28*G28 -> 171.52 | K28: =G28*H28 -> 4
B29: Campus Small | C29: AT | D29: Wohnen | E29: Wotel Typ3 | F29: 25.92 | G29: 12 | H29: 1 | J29: =F29*G29 -> 311.04 | K29: =G29*H29 -> 12
B30: Campus Small | C30: AT | D30: Wohnen | E30: Wotel Typ4 | F30: 52.22 | G30: 2 | H30: 1 | J30: =F30*G30 -> 104.44 | K30: =G30*H30 -> 2
... B73: Villette 2 W3 | C73: AT | D73: Wohnen | E73: 3.5 Zi.-Whg. | F73: 97.2 | G73: 6 | H73: 1 | J73: =F73*G73 -> 583.2 | K73: =G73*H73 -> 6

Sheet 03_Phase A Villette I
B2: Phase A — Villette I inkl. TG Villette
B3: Villette I mit 24 Wohnungen im obersten Segment und Tiefgarage Villette (55 PP). Baueingabe 22.07.2026 erfolgt.
B5: KENNZAHLEN | F5: WIRTSCHAFTLICHKEIT
B6: Kennzahl | C6: Wert | D6: Einheit | F6: Kennzahl | G6: Wert | H6: Einheit
B7: Hauptnutzfläche HNF | C7: =01_Kennwerte!$J$6 -> 3614 | D7: m² | F7: AK möglich | G7: =16_Residualwert!$D$71 -> 30 | H7: Mio CHF
B8: Geschossfläche oi+ui | C8: =01_Kennwerte!$N$6 -> 8818 | D8: m² | F8: EK notwendig | G8: =16_Residualwert!$E$71 -> 19.515675 | H8: Mio CHF
B9: Volumen oberirdisch | C9: =01_Kennwerte!$K$6 -> 19115 | D9: m³ | F9: Masterplan + NK + VK + Zins | G9: =16_Residualwert!$F$71 -> 0 | H9: Mio CHF
B10: Volumen UG | C10: =01_Kennwerte!$M$6 -> 12246 | D10: m³ | F10: Residualwert (AK-Basis) | G10: =16_Residualwert!$G$71 -> 10.484325 | H10: Mio CHF
B11: Volumen total | C11: =01_Kennwerte!$O$6 -> 31361 | D11: m³ | F11: Ertragswert stabilisiert | G11: =16_Residualwert!$H$71 -> 29.723702 | H11: Mio CHF
B12: Parkplätze oberirdisch | C12: =01_Kennwerte!$P$6 -> 6 | D12: PP | F12: Residualwert (EW-Basis) | G12: =16_Residualwert!$I$71 -> 10.208027 | H12: Mio CHF
B13: Parkplätze UG | C13: =01_Kennwerte!$Q$6 -> 55 | D13: PP | F13: DCF-Marktwert | G13: =16_Residualwert!$J$71 -> 28.268636 | H13: Mio CHF
B14: Einheiten Wohnen | C14: =01_Kennwerte!$S$6 -> 24 | D14: Stk. | F14: Planungsbudget | G14: =16_Residualwert!$K$71 -> 3.5 | H14: Mio CHF
B15: Einheiten Gewerbe/Büro | C15: =01_Kennwerte!$T$6 -> 0 | D15: Stk. | F15: Planungsbudget in % EK | G15: =16_Residualwert!$L$71 -> 0.17934301 | H15: %
B17: TERMINE (Bauablauf 17.09.2026)
B18: Zonenänderung | C18: Baueingabe | D18: Baustart | E18: Bauende / Bezug
B19: ='07_Planung & Agenda'!$D$17 -> – | C19: ='07_Planung & Agenda'!$E$17 -> 22.07.2026 (eingereicht) | D19: ='07_Planung & Agenda'!$F$17 -> Q1 2028 | E19: ='07_Planung & Agenda'!$G$17 -> Q1 2029
B21: ERTRAGSQUELLEN
B22: Teilprojekt | C22: Nutzung | D22: HNF m² | E22: Einheiten | F22: Sollertrag CHF/Jahr | G22: Nettoertrag CHF/Jahr | H22: Kap.satz | I22: Ertragswert CHF | J22: DCF-Wert CHF
B23: Villette 1 BE | C23: Wohnen | D23: =12_Ertragsrechnung!$E$7 -> 3614.4 | E23: =12_Ertragsrechnung!$F$7 -> 24 | F23: =12_Ertragsrechnung!$H$7 -> 1126586.5 | G23: =12_Ertragsrechnung!$N$7 -> 957598.52 | H23: =13_Bewertung!$F$8 -> 0.034 | I23: =13_Bewertung!$G$8 -> 28164662 | J23: =13_Bewertung!$J$8 -> 26781677
B24: Villette 1 BE | C24: Parking | D24: =12_Ertragsrechnung!$E$8 -> — | E24: =12_Ertragsrechnung!$F$8 -> 33.6 | F24: =12_Ertragsrechnung!$H$8 -> 80640 | G24: =12_Ertragsrechnung!$N$8 -> 70156.8 | H24: =13_Bewertung!$F$9 -> 0.045 | I24: =13_Bewertung!$G$9 -> 1559040 | J24: =13_Bewertung!$J$9 -> 1486959.1
B25: Total Phase A | D25: =SUM(D23:D24) -> 3614.4 | F25: =SUM(F23:F24) -> 1207226.5 | G25: =SUM(G23:G24) -> 1027755.3 | H25: =IF(I25=0,0,G25/I25) -> 0.034576962 | I25: =SUM(I23:I24) -> 29723702 | J25: =SUM(J23:J24) -> 28268636
B26: Bruttorendite auf Ertragswert | F26: =IF(I25=0,0,F25/I25) -> 0.040614944
B27: Ertragswert je m² HNF | F27: =IF(C7=0,0,I25/C7) -> 8224.5994
B29: MITTELVERWENDUNG PLANUNG (CHF)
B30: Q4 2026 | C30: Q1 2027 | D30: Q2 2027 | E30: Q3 2027 | F30: Q4 2027 | G30: Q1 2028 | H30: Q2 2028 | I30: Q3 2028 | J30: Summe
B31: ='07_Planung & Agenda'!$D$32 -> 525000 | C31: ='07_Planung & Agenda'!$E$32 -> 525000 | D31: ='07_Planung & Agenda'!$F$32 -> 525000 | E31: ='07_Planung & Agenda'!$G$32 -> 525000 | F31: ='07_Planung & Agenda'!$H$32 -> 525000 | G31: ='07_Planung & Agenda'!$I$32 -> 525000 | H31: ='07_Planung & Agenda'!$J$32 -> 175000 | I31: ='07_Planung & Agenda'!$K$32 -> 175000 | J31: ='07_Planung & Agenda'!$L$32 -> 3500000
B33: FLÄCHENSPIEGEL (Blatt 02)
B34: Teilprojekt | C34: Geschoss | D34: Nutzung | E34: Typ | F34: HNF je Einheit m² | G34: Stk. | H34: HNF Total m²
B35: =02_Flächenspiegel!$B$57 -> Villette 1 BE | C35: =02_Flächenspiegel!$C$57 -> EG | D35: =02_Flächenspiegel!$D$57 -> Wohnen | E35: =02_Flächenspiegel!$E$57 -> 7.5 Zi.-Whg. | F35: =02_Flächenspiegel!$F$57 -> 214.9 | G35: =02_Flächenspiegel!$G$57 -> 1 | H35: =02_Flächenspiegel!$J$57 -> 214.9
B36: =02_Flächenspiegel!$B$58 -> Villette 1 BE | C36: =02_Flächenspiegel!$C$58 -> EG | D36: =02_Flächenspiegel!$D$58 -> Wohnen | E36: =02_Flächenspiegel!$E$58 -> 5.5 Zi.-Whg. | F36: =02_Flächenspiegel!$F$58 -> 179.5 | G36: =02_Flächenspiegel!$G$58 -> 3 | H36: =02_Flächenspiegel!$J$58 -> 538.5
B37: =02_Flächenspiegel!$B$59 -> Villette 1 BE | C37: =02_Flächenspiegel!$C$59 -> EG | D37: =02_Flächenspiegel!$D$59 -> Wohnen | E37: =02_Flächenspiegel!$E$59 -> 4.5 Zi.-Whg. | F37: =02_Flächenspiegel!$F$59 -> 148.8 | G37: =02_Flächenspiegel!$G$59 -> 4 | H37: =02_Flächenspiegel!$J$59 -> 595.2
B38: =02_Flächenspiegel!$B$60 -> Villette 1 BE | C38: =02_Flächenspiegel!$C$60 -> OG | D38: =02_Flächenspiegel!$D$60 -> Wohnen | E38: =02_Flächenspiegel!$E$60 -> 7.5 Zi.-Whg. | F38: =02_Flächenspiegel!$F$60 -> 218.6 | G38: =02_Flächenspiegel!$G$60 -> 1 | H38: =02_Flächenspiegel!$J$60 -> 218.6
B39: =02_Flächenspiegel!$B$61 -> Villette 1 BE | C39: =02_Flächenspiegel!$C$61 -> OG | D39: =02_Flächenspiegel!$D$61 -> Wohnen | E39: =02_Flächenspiegel!$E$61 -> 5.5 Zi.-Whg. | F39: =02_Flächenspiegel!$F$61 -> 183.1 | G39: =02_Flächenspiegel!$G$61 -> 3 | H39: =02_Flächenspiegel!$J$61 -> 549.3
B40: =02_Flächenspiegel!$B$62 -> Villette 1 BE | C40: =02_Flächenspiegel!$C$62 -> OG | D40: =02_Flächenspiegel!$D$62 -> Wohnen | E40: =02_Flächenspiegel!$E$62 -> 4.5 Zi.-Whg. | F40: =02_Flächenspiegel!$F$62 -> 152.1 | G40: =02_Flächenspiegel!$G$62 -> 4 | H40: =02_Flächenspiegel!$J$62 -> 608.4
B41: =02_Flächenspiegel!$B$63 -> Villette 1 BE | C41: =02_Flächenspiegel!$C$63 -> AT | D41: =02_Flächenspiegel!$D$63 -> Wohnen | E41: =02_Flächenspiegel!$E$63 -> 3.5 Zi.-Whg. | F41: =02_Flächenspiegel!$F$63 -> 143.1 | G41: =02_Flächenspiegel!$G$63 -> 1 | H41: =02_Flächenspiegel!$J$63 -> 143.1
B42: =02_Flächenspiegel!$B$64 -> Villette 1 BE | C42: =02_Flächenspiegel!$C$64 -> AT | D42: =02_Flächenspiegel!$D$64 -> Wohnen | E42: =02_Flächenspiegel!$E$64 -> 3.5 Zi.-Whg. | F42: =02_Flächenspiegel!$F$64 -> 119.2 | G42: =02_Flächenspiegel!$G$64 -> 3 | H42: =02_Flächenspiegel!$J$64 -> 357.6
B43: =02_Flächenspiegel!$B$65 -> Villette 1 BE | C43: =02_Flächenspiegel!$C$65 -> AT | D43: =02_Flächenspiegel!$D$65 -> Wohnen | E43: =02_Flächenspiegel!$E$65 -> 3.5 Zi.-Whg. | F43: =02_Flächenspiegel!$F$65 -> 97.2 | G43: =02_Flächenspiegel!$G$65 -> 4 | H43: =02_Flächenspiegel!$J$65 -> 388.8

Sheet 04_Phase B Concierge+Spitex
B2: Phase B — Concierge ACE + Spitex Umbau inkl. öffentliche TG
B3: Concierge ACE mit abgesenktem Eventsaal, Gewerbe EG, 19 Studios und 16 Residenzen, dazu Umbau und Aufstockung Spitex sowie die grosse öffentliche Tiefgarage (101 PP).
B5: KENNZAHLEN | F5: WIRTSCHAFTLICHKEIT
B6: Kennzahl | C6: Wert | D6: Einheit | F6: Kennzahl | G6: Wert | H6: Einheit
B7: Hauptnutzfläche HNF | C7: =01_Kennwerte!$J$7+01_Kennwerte!$J$9 -> 4922.35 | D7: m² | F7: AK möglich | G7: =16_Residualwert!$D$72 -> 35.562223 | H7: Mio CHF
B8: Geschossfläche oi+ui | C8: =01_Kennwerte!$N$7+01_Kennwerte!$N$9 -> 10400.79 | D8: m² | F8: EK notwendig | G8: =16_Residualwert!$E$72 -> 23.808623 | H8: Mio CHF
B9: Volumen oberirdisch | C9: =01_Kennwerte!$K$7+01_Kennwerte!$K$9 -> 20882.89 | D9: m³ | F9: Masterplan + NK + VK + Zins | G9: =16_Residualwert!$F$72 -> 0 | H9: Mio CHF
B10: Volumen UG | C10: =01_Kennwerte!$M$7+01_Kennwerte!$M$9 -> 18994 | D10: m³ | F10: Residualwert (AK-Basis) | G10: =16_Residualwert!$G$72 -> 11.7536 | H10: Mio CHF
B11: Volumen total | C11: =01_Kennwerte!$O$7+01_Kennwerte!$O$9 -> 39876.89 | D11: m³ | F11: Ertragswert stabilisiert | G11: =16_Residualwert!$H$72 -> 35.847176 | H11: Mio CHF
B12: Parkplätze oberirdisch | C12: =01_Kennwerte!$P$7+01_Kennwerte!$P$9 -> 14 | D12: PP | F12: Residualwert (EW-Basis) | G12: =16_Residualwert!$I$72 -> 12.038553 | H12: Mio CHF
B13: Parkplätze UG | C13: =01_Kennwerte!$Q$7+01_Kennwerte!$Q$9 -> 101 | D13: PP | F13: DCF-Marktwert | G13: =16_Residualwert!$J$72 -> 33.931894 | H13: Mio CHF
B14: Einheiten Wohnen | C14: =01_Kennwerte!$S$7+01_Kennwerte!$S$9 -> 48 | D14: Stk. | F14: Planungsbudget | G14: =16_Residualwert!$K$72 -> 2.5 | H14: Mio CHF
B15: Einheiten Gewerbe/Büro | C15: =01_Kennwerte!$T$7+01_Kennwerte!$T$9 -> 2 | D15: Stk. | F15: Planungsbudget in % EK | G15: =16_Residualwert!$L$72 -> 0.10500397 | H15: %
B17: TERMINE (Bauablauf 17.09.2026)
B18: Zonenänderung | C18: Baueingabe | D18: Baustart | E18: Bauende / Bezug
B19: ='07_Planung & Agenda'!$D$18 -> – | C19: ='07_Planung & Agenda'!$E$18 -> Q2 2027 | D19: ='07_Planung & Agenda'!$F$18 -> Q2 2028 | E19: ='07_Planung & Agenda'!$G$18 -> Q4 2029
B21: ERTRAGSQUELLEN
B22: Teilprojekt | C22: Nutzung | D22: HNF m² | E22: Einheiten | F22: Sollertrag CHF/Jahr | G22: Nettoertrag CHF/Jahr | H22: Kap.satz | I22: Ertragswert CHF | J22: DCF-Wert CHF
B23: Spitex Umbau | C23: Residenz | D23: =12_Ertragsrechnung!$E$9 -> 800.86 | E23: =12_Ertragsrechnung!$F$9 -> 17 | F23: =12_Ertragsrechnung!$H$9 -> 271175.02 | G23: =12_Ertragsrechnung!$N$9 -> 225075.27 | H23: =13_Bewertung!$F$10 -> 0.038 | I23: =13_Bewertung!$G$10 -> 5923033.4 | J23: =13_Bewertung!$J$10 -> 5625692.8
B24: Spitex Umbau | C24: Parking | D24: =12_Ertragsrechnung!$E$10 -> — | E24: =12_Ertragsrechnung!$F$10 -> 7.8 | F24: =12_Ertragsrechnung!$H$10 -> 18720 | G24: =12_Ertragsrechnung!$N$10 -> 16286.4 | H24: =13_Bewertung!$F$11 -> 0.045 | I24: =13_Bewertung!$G$11 -> 361920 | J24: =13_Bewertung!$J$11 -> 345186.93
B25: Concierge ACE | C25: Residenz | D25: =12_Ertragsrechnung!$E$11 -> 1775.3196 | E25: =12_Ertragsrechnung!$F$11 -> 35 | F25: =12_Ertragsrechnung!$H$11 -> 715029.14 | G25: =12_Ertragsrechnung!$N$11 -> 593474.19 | H25: =13_Bewertung!$F$12 -> 0.038 | I25: =13_Bewertung!$G$12 -> 15617742 | J25: =13_Bewertung!$J$12 -> 14833720
B26: Concierge ACE | C26: Gewerbe | D26: =12_Ertragsrechnung!$E$12 -> 1331.76 | E26: =12_Ertragsrechnung!$F$12 -> 1 | F26: =12_Ertragsrechnung!$H$12 -> 204153.83 | G26: =12_Ertragsrechnung!$N$12 -> 177613.83 | H26: =13_Bewertung!$F$13 -> 0.056 | I26: =13_Bewertung!$G$13 -> 3171675.6 | J26: =13_Bewertung!$J$13 -> 3024326.1
B27: Concierge ACE | C27: Saal | D27: =12_Ertragsrechnung!$E$13 -> 1013.66 | E27: =12_Ertragsrechnung!$F$13 -> 1 | F27: =12_Ertragsrechnung!$H$13 -> 580000 | G27: =12_Ertragsrechnung!$N$13 -> 319000 | H27: =13_Bewertung!$F$14 -> 0.066 | I27: =13_Bewertung!$G$14 -> 4833333.3 | J27: =13_Bewertung!$J$14 -> 4458218.8
B28: Concierge ACE | C28: Parking öffentlich | D28: =12_Ertragsrechnung!$E$14 -> — | E28: =12_Ertragsrechnung!$F$14 -> 101 | F28: =12_Ertragsrechnung!$H$14 -> 385680 | G28: =12_Ertragsrechnung!$N$14 -> 296973.6 | H28: =13_Bewertung!$F$15 -> 0.05 | I28: =13_Bewertung!$G$15 -> 5939472 | J28: =13_Bewertung!$J$15 -> 5644749.2
B29: Total Phase B | D29: =SUM(D23:D28) -> 4921.5996 | F29: =SUM(F23:F28) -> 2174758 | G29: =SUM(G23:G28) -> 1628423.3 | H29: =IF(I29=0,0,G29/I29) -> 0.045426822 | I29: =SUM(I23:I28) -> 35847176 | J29: =SUM(J23:J28) -> 33931894
B30: Bruttorendite auf Ertragswert | F30: =IF(I29=0,0,F29/I29) -> 0.060667484
B31: Ertragswert je m² HNF | F31: =IF(C7=0,0,I29/C7) -> 7282.5329
B33: MITTELVERWENDUNG PLANUNG (CHF)
B34: Q4 2026 | C34: Q1 2027 | D34: Q2 2027 | E34: Q3 2027 | F34: Q4 2027 | G34: Q1 2028 | H34: Q2 2028 | I34: Q3 2028 | J34: Summe
B35: ='07_Planung & Agenda'!$D$33 -> 250000 | C35: ='07_Planung & Agenda'!$E$33 -> 375000 | D35: ='07_Planung & Agenda'!$F$33 -> 500000 | E35: ='07_Planung & Agenda'!$G$33 -> 250000 | F35: ='07_Planung & Agenda'!$H$33 -> 250000 | G35: ='07_Planung & Agenda'!$I$33 -> 375000 | H35: ='07_Planung & Agenda'!$J$33 -> 375000 | I35: ='07_Planung & Agenda'!$K$33 -> 125000 | J35: ='07_Planung & Agenda'!$L$33 -> 2500000
B37: EVENTSAAL UND ÖFFENTLICHE TIEFGARAGE (Annahmen Blatt 08)
B38: Position | C38: Wert | D38: Einheit
B39: Anlässe pro Jahr | C39: =08_Annahmen!$C$43 -> 120 | D39: Anz.
B40: Tagesmiete Anlass | C40: =08_Annahmen!$C$44 -> 3500 | D40: CHF
B41: Tagungen werktags | C41: =08_Annahmen!$C$45 -> 80 | D41: Tage
B42: Tagesmiete Tagung | C42: =08_Annahmen!$C$46 -> 2000 | D42: CHF
B43: Sollertrag Saal | C43: =08_Annahmen!$C$49 -> 580000 | D43: CHF/Jahr
B44: Tageskarten ABB | C44: =08_Annahmen!$C$56 -> 90 | D44: PP
B45: Tarif Tageskarte | C45: =08_Annahmen!$C$57 -> 12 | D45: CHF/Tag
B46: Ertrag ABB | C46: =08_Annahmen!$C$60 -> 235980 | D46: CHF/Jahr
...

Sheet 05_Phase D Campus
B2: Phase D — Campus Small + Campus Medium
B3: Campus Small und Campus Medium: Gewerbe EG, Büros OG, Wotel im Attika.
B5: KENNZAHLEN | F5: WIRTSCHAFTLICHKEIT
B6: Kennzahl | C6: Wert | D6: Einheit | F6: Kennzahl | G6: Wert | H6: Einheit
B7: Hauptnutzfläche HNF | C7: =01_Kennwerte!$J$11+01_Kennwerte!$J$10 -> 6443 | D7: m² | F7: AK möglich | G7: =16_Residualwert!$D$73 -> 37 | H7: Mio CHF
B8: Geschossfläche oi+ui | C8: =01_Kennwerte!$N$11+01_Kennwerte!$N$10 -> 11542 | D8: m² | F8: EK notwendig | G8: =16_Residualwert!$E$73 -> 27.263728 | H8: Mio CHF
B9: Volumen oberirdisch | C9: =01_Kennwerte!$K$11+01_Kennwerte!$K$10 -> 38620 | D9: m³ | F9: Masterplan + NK + VK + Zins | G9: =16_Residualwert!$F$73 -> 0 | H9: Mio CHF
B10: Volumen UG | C10: =01_Kennwerte!$M$11+01_Kennwerte!$M$10 -> 10482 | D10: m³ | F10: Residualwert (AK-Basis) | G10: =16_Residualwert!$G$73 -> 9.7362718 | H10: Mio CHF
B11: Volumen total | C11: =01_Kennwerte!$O$11+01_Kennwerte!$O$10 -> 49102 | D11: m³ | F11: Ertragswert stabilisiert | G11: =16_Residualwert!$H$73 -> 37.048441 | H11: Mio CHF
B12: Parkplätze oberirdisch | C12: =01_Kennwerte!$P$11+01_Kennwerte!$P$10 -> 37 | D12: PP | F12: Residualwert (EW-Basis) | G12: =16_Residualwert!$I$73 -> 9.7847128 | H12: Mio CHF
B13: Parkplätze UG | C13: =01_Kennwerte!$Q$11+01_Kennwerte!$Q$10 -> 48 | D13: PP | F13: DCF-Marktwert | G13: =16_Residualwert!$J$73 -> 35.154373 | H13: Mio CHF
B14: Einheiten Wohnen | C14: =01_Kennwerte!$S$11+01_Kennwerte!$S$10 -> 58 | D14: Stk. | F14: Planungsbudget | G14: =16_Residualwert!$K$73 -> 2 | H14: Mio CHF
B15: Einheiten Gewerbe/Büro | C15: =01_Kennwerte!$T$11+01_Kennwerte!$T$10 -> 60 | D15: Stk. | F15: Planungsbudget in % EK | G15: =16_Residualwert!$L$73 -> 0.073357539 | H15: %
B17: TERMINE (Bauablauf 17.09.2026)
B18: Zonenänderung | C18: Baueingabe | D18: Baustart | E18: Bauende / Bezug
B19: ='07_Planung & Agenda'!$D$19 -> – | C19: ='07_Planung & Agenda'!$E$19 -> Q2 2027 | D19: ='07_Planung & Agenda'!$F$19 -> Q2 2028 | E19: ='07_Planung & Agenda'!$G$19 -> Q1 2030
B21: ERTRAGSQUELLEN
B22: Teilprojekt | C22: Nutzung | D22: HNF m² | E22: Einheiten | F22: Sollertrag CHF/Jahr | G22: Nettoertrag CHF/Jahr | H22: Kap.satz | I22: Ertragswert CHF | J22: DCF-Wert CHF
B23: Campus Small | C23: Wotel | D23: =12_Ertragsrechnung!$E$15 -> 801.24 | E23: =12_Ertragsrechnung!$F$15 -> 22 | F23: =12_Ertragsrechnung!$H$15 -> 478208.71 | G23: =12_Ertragsrechnung!$N$15 -> 334746.1 | H23: =13_Bewertung!$F$16 -> 0.052 | I23: =13_Bewertung!$G$16 -> 6437425 | J23: =13_Bewertung!$J$16 -> 6082343.4
B24: Campus Small | C24: Büro | D24: =12_Ertragsrechnung!$E$16 -> 718.92 | E24: =12_Ertragsrechnung!$F$16 -> 20 | F24: =12_Ertragsrechnung!$H$16 -> 197381.8 | G24: =12_Ertragsrechnung!$N$16 -> 167774.53 | H24: =13_Bewertung!$F$17 -> 0.051 | I24: =13_Bewertung!$G$17 -> 3289696.7 | J24: =13_Bewertung!$J$17 -> 3124672.2
B25: Campus Small | C25: Gewerbe | D25: =12_Ertragsrechnung!$E$17 -> 1020.12 | E25: =12_Ertragsrechnung!$F$17 -> 4 | F25: =12_Ertragsrechnung!$H$17 -> 193205.83 | G25: =12_Ertragsrechnung!$N$17 -> 168089.07 | H25: =13_Bewertung!$F$18 -> 0.056 | I25: =13_Bewertung!$G$18 -> 3001590.6 | J25: =13_Bewertung!$J$18 -> 2862142.8
B26: Campus Small | C26: Parking | D26: =12_Ertragsrechnung!$E$18 -> — | E26: =12_Ertragsrechnung!$F$18 -> 49.3754 | F26: =12_Ertragsrechnung!$H$18 -> 97763.292 | G26: =12_Ertragsrechnung!$N$18 -> 85054.064 | H26: =13_Bewertung!$F$19 -> 0.045 | I26: =13_Bewertung!$G$19 -> 1890090.3 | J26: =13_Bewertung!$J$19 -> 1802703.6
B27: Campus Medium | C27: Wotel | D27: =12_Ertragsrechnung!$E$19 -> 1216.72 | E27: =12_Ertragsrechnung!$F$19 -> 36 | F27: =12_Ertragsrechnung!$H$19 -> 743232.91 | G27: =12_Ertragsrechnung!$N$19 -> 520263.03 | H27: =13_Bewertung!$F$20 -> 0.052 | I27: =13_Bewertung!$G$20 -> 10005058 | J27: =13_Bewertung!$J$20 -> 9453189.8
B28: Campus Medium | C28: Büro | D28: =12_Ertragsrechnung!$E$20 -> 1095.44 | E28: =12_Ertragsrechnung!$F$20 -> 32 | F28: =12_Ertragsrechnung!$H$20 -> 302734.28 | G28: =12_Ertragsrechnung!$N$20 -> 257324.14 | H28: =13_Bewertung!$F$21 -> 0.051 | I28: =13_Bewertung!$G$21 -> 5045571.3 | J28: =13_Bewertung!$J$21 -> 4792465.2
B29: Campus Medium | C29: Gewerbe | D29: =12_Ertragsrechnung!$E$21 -> 1590.37 | E29: =12_Ertragsrechnung!$F$21 -> 4 | F29: =12_Ertragsrechnung!$H$21 -> 284766.14 | G29: =12_Ertragsrechnung!$N$21 -> 247746.54 | H29: =13_Bewertung!$F$22 -> 0.056 | I29: =13_Bewertung!$G$22 -> 4424045.4 | J29: =13_Bewertung!$J$22 -> 4218513.3
B30: Campus Medium | C30: Parking | D30: =12_Ertragsrechnung!$E$22 -> — | E30: =12_Ertragsrechnung!$F$22 -> 77.1934 | F30: =12_Ertragsrechnung!$H$22 -> 152842.93 | G30: =12_Ertragsrechnung!$N$22 -> 132973.35 | H30: =13_Bewertung!$F$23 -> 0.045 | I30: =13_Bewertung!$G$23 -> 2954963.4 | J30: =13_Bewertung!$J$23 -> 2818343.1
B31: Total Phase D | D31: =SUM(D23:D30) -> 6442.81 | F31: =SUM(F23:F30) -> 2450135.9 | G31: =SUM(G23:G30) -> 1913970.8 | H31: =IF(I31=0,0,G31/I31) -> 0.051661306 | I31: =SUM(I23:I30) -> 37048441 | J31: =SUM(J23:J30) -> 35154373
B32: Bruttorendite auf Ertragswert | F32: =IF(I31=0,0,F31/I31) -> 0.066133306
B33: Ertragswert je m² HNF | F33: =IF(C7=0,0,I31/C7) -> 5750.1848
B35: MITTELVERWENDUNG PLANUNG (CHF)
B36: Q4 2026 | C36: Q1 2027 | D36: Q2 2027 | E36: Q3 2027 | F36: Q4 2027 | G36: Q1 2028 | H36: Q2 2028 | I36: Q3 2028 | J36: Summe
B37: ='07_Planung & Agenda'!$D$34 -> 200000 | C37: ='07_Planung & Agenda'!$E$34 -> 300000 | D37: ='07_Planung & Agenda'!$F$34 -> 400000 | E37: ='07_Planung & Agenda'!$G$34 -> 200000 | F37: ='07_Planung & Agenda'!$H$34 -> 200000 | G37: ='07_Planung & Agenda'!$I$34 -> 300000 | H37: ='07_Planung & Agenda'!$J$34 -> 300000 | I37: ='07_Planung & Agenda'!$K$34 -> 100000 | J37: ='07_Planung & Agenda'!$L$34 -> 2000000
B39: FLÄCHENSPIEGEL (Blatt 02)
B40: Teilprojekt | C40: Geschoss | D40: Nutzung | E40: Typ | F40: HNF je Einheit m² | G40: Stk. | H40: HNF Total m²
B41: =02_Flächenspiegel!$B$19 -> Campus Small | C41: =02_Flächenspiegel!$C$19 -> EG | D41: =02_Flächenspiegel!$D$19 -> Gewerbe | E41: =02_Flächenspiegel!$E$19 -> Typ1 | F41: =02_Flächenspiegel!$F$19 -> 511.77 | G41: =02_Flächenspiegel!$G$19 -> 1 | H41: =02_Flächenspiegel!$J$19 -> 511.77
B42: =02_Flächenspiegel!$B$20 -> Campus Small | C42: =02_Flächenspiegel!$C$20 -> EG | D42: =02_Flächenspiegel!$D$20 -> Gewerbe | E42: =02_Flächenspiegel!$E$20 -> Typ2 | F42: =02_Flächenspiegel!$F$20 -> 228.62 | G42: =02_Flächenspiegel!$G$20 -> 1 | H42: =02_Flächenspiegel!$J$20 -> 228.62
B43: =02_Flächenspiegel!$B$21 -> Campus Small | C43: =02_Flächenspiegel!$C$21 -> EG | D43: =02_Flächenspiegel!$D$21 -> Gewerbe | E43: =02_Flächenspiegel!$E$21 -> Typ3 | F43: =02_Flächenspiegel!$F$21 -> 166.33 | G43: =02_Flächenspiegel!$G$21 -> 1 | H43: =02_Flächenspiegel!$J$21 -> 166.33
B44: =02_Flächenspiegel!$B$22 -> Campus Small | C44: =02_Flächenspiegel!$C$22 -> EG | D44: =02_Flächenspiegel!$D$22 -> Gewerbe | E44: =02_Flächenspiegel!$E$22 -> Typ4 | F44: =02_Flächenspiegel!$F$22 -> 113.4 | G44: =02_Flächenspiegel!$G$22 -> 1 | H44: =02_Flächenspiegel!$J$22 -> 113.4
B45: =02_Flächenspiegel!$B$23 -> Campus Small | C45: =02_Flächenspiegel!$C$23 -> OG | D45: =02_Flächenspiegel!$D$23 -> Büro | E45: =02_Flächenspiegel!$E$23 -> Typ1 | F45: =02_Flächenspiegel!$F$23 -> 43.05 | G45: =02_Flächenspiegel!$G$23 -> 4 | H45: =02_Flächenspiegel!$J$23 -> 172.2
B46: =02_Flächenspiegel!$B$24 -> Campus Small | C46: =02_Flächenspiegel!$C$24 -> OG | D46: =02_Flächenspiegel!$D$24 -> Büro | E46: =02_Flächenspiegel!$E$24 -> Typ2 | F46: =02_Flächenspiegel!$F$24 -> 42.55 | G46: =02_Flächenspiegel!$G$24 -> 4 | H46: =02_Flächenspiegel!$J$24 -> 170.2
...

Sheet 06_Phase C Villette II
B2: Phase C — Villette II
B3: Villette II mit 48 Wohnungen; setzt eine Zonenänderung voraus (ca. 2 Jahre).
B5: KENNZAHLEN | F5: WIRTSCHAFTLICHKEIT
B6: Kennzahl | C6: Wert | D6: Einheit | F6: Kennzahl | G6: Wert | H6: Einheit
B7: Hauptnutzfläche HNF | C7: =01_Kennwerte!$J$8 -> 7249 | D7: m² | F7: AK möglich | G7: =16_Residualwert!$D$74 -> 77 | H7: Mio CHF
B8: Geschossfläche oi+ui | C8: =01_Kennwerte!$N$8 -> 15655 | D8: m² | F8: EK notwendig | G8: =16_Residualwert!$E$74 -> 38.582833 | H8: Mio CHF
B9: Volumen oberirdisch | C9: =01_Kennwerte!$K$8 -> 36949 | D9: m³ | F9: Masterplan + NK + VK + Zins | G9: =16_Residualwert!$F$74 -> 7 | H9: Mio CHF
B10: Volumen UG | C10: =01_Kennwerte!$M$8 -> 15584 | D10: m³ | F10: Residualwert (AK-Basis) | G10: =16_Residualwert!$G$74 -> 31.417167 | H10: Mio CHF
B11: Volumen total | C11: =01_Kennwerte!$O$8 -> 52533 | D11: m³ | F11: Ertragswert stabilisiert | G11: =16_Residualwert!$H$74 -> 59.653 | H11: Mio CHF
B12: Parkplätze oberirdisch | C12: =01_Kennwerte!$P$8 -> 0 | D12: PP | F12: Residualwert (EW-Basis) | G12: =16_Residualwert!$I$74 -> 14.070166 | H12: Mio CHF
B13: Parkplätze UG | C13: =01_Kennwerte!$Q$8 -> 80 | D13: PP | F13: DCF-Marktwert | G13: =16_Residualwert!$J$74 -> 56.732772 | H13: Mio CHF
B14: Einheiten Wohnen | C14: =01_Kennwerte!$S$8 -> 48 | D14: Stk. | F14: Planungsbudget | G14: =16_Residualwert!$K$74 -> 0.5 | H14: Mio CHF
B15: Einheiten Gewerbe/Büro | C15: =01_Kennwerte!$T$8 -> 0 | D15: Stk. | F15: Planungsbudget in % EK | G15: =16_Residualwert!$L$74 -> 0.012959131 | H15: %
B17: TERMINE (Bauablauf 17.09.2026)
B18: Zonenänderung | C18: Baueingabe | D18: Baustart | E18: Bauende / Bezug
B19: ='07_Planung & Agenda'!$D$20 -> Q1 2027 | C19: ='07_Planung & Agenda'!$E$20 -> Q1 2029 (nach Bewilligung Zonenänderung) | D19: ='07_Planung & Agenda'!$F$20 -> offen | E19: ='07_Planung & Agenda'!$G$20 -> Q4 2031 (Reserve 2032/33)
B21: ERTRAGSQUELLEN
B22: Teilprojekt | C22: Nutzung | D22: HNF m² | E22: Einheiten | F22: Sollertrag CHF/Jahr | G22: Nettoertrag CHF/Jahr | H22: Kap.satz | I22: Ertragswert CHF | J22: DCF-Wert CHF
B23: Villette 2 W3 | C23: Wohnen | D23: =12_Ertragsrechnung!$E$23 -> 7249.2 | E23: =12_Ertragsrechnung!$F$23 -> 48 | F23: =12_Ertragsrechnung!$H$23 -> 2261396.8 | G23: =12_Ertragsrechnung!$N$23 -> 1922187.3 | H23: =13_Bewertung!$F$24 -> 0.034 | I23: =13_Bewertung!$G$24 -> 56534920 | J23: =13_Bewertung!$J$24 -> 53758854
B24: Villette 2 W3 | C24: Parking | D24: =12_Ertragsrechnung!$E$24 -> — | E24: =12_Ertragsrechnung!$F$24 -> 67.2 | F24: =12_Ertragsrechnung!$H$24 -> 161280 | G24: =12_Ertragsrechnung!$N$24 -> 140313.6 | H24: =13_Bewertung!$F$25 -> 0.045 | I24: =13_Bewertung!$G$25 -> 3118080 | J24: =13_Bewertung!$J$25 -> 2973918.2
B25: Total Phase C | D25: =SUM(D23:D24) -> 7249.2 | F25: =SUM(F23:F24) -> 2422676.8 | G25: =SUM(G23:G24) -> 2062500.9 | H25: =IF(I25=0,0,G25/I25) -> 0.034574973 | I25: =SUM(I23:I24) -> 59653000 | J25: =SUM(J23:J24) -> 56732772
B26: Bruttorendite auf Ertragswert | F26: =IF(I25=0,0,F25/I25) -> 0.040612824
B27: Ertragswert je m² HNF | F27: =IF(C7=0,0,I25/C7) -> 8229.135
B29: MITTELVERWENDUNG PLANUNG (CHF)
B30: Q4 2026 | C30: Q1 2027 | D30: Q2 2027 | E30: Q3 2027 | F30: Q4 2027 | G30: Q1 2028 | H30: Q2 2028 | I30: Q3 2028 | J30: Summe
B31: ='07_Planung & Agenda'!$D$35 -> 100000 | C31: ='07_Planung & Agenda'!$E$35 -> 150000 | D31: ='07_Planung & Agenda'!$F$35 -> 100000 | E31: ='07_Planung & Agenda'!$G$35 -> 50000 | F31: ='07_Planung & Agenda'!$H$35 -> 50000 | G31: ='07_Planung & Agenda'!$I$35 -> 25000 | H31: ='07_Planung & Agenda'!$J$35 -> 25000 | I31: ='07_Planung & Agenda'!$K$35 -> 0 | J31: ='07_Planung & Agenda'!$L$35 -> 500000
B33: FLÄCHENSPIEGEL (Blatt 02)
B34: Teilprojekt | C34: Geschoss | D34: Nutzung | E34: Typ | F34: HNF je Einheit m² | G34: Stk. | H34: HNF Total m²
B35: =02_Flächenspiegel!$B$66 -> Villette 2 W3 | C35: =02_Flächenspiegel!$C$66 -> EG | D35: =02_Flächenspiegel!$D$66 -> Wohnen | E35: =02_Flächenspiegel!$E$66 -> 5.5 Zi.-Whg. | F35: =02_Flächenspiegel!$F$66 -> 179.5 | G35: =02_Flächenspiegel!$G$66 -> 6 | H35: =02_Flächenspiegel!$J$66 -> 1077
B36: =02_Flächenspiegel!$B$67 -> Villette 2 W3 | C36: =02_Flächenspiegel!$C$67 -> EG | D36: =02_Flächenspiegel!$D$67 -> Wohnen | E36: =02_Flächenspiegel!$E$67 -> 4.5 Zi.-Whg. | F36: =02_Flächenspiegel!$F$67 -> 148.8 | G36: =02_Flächenspiegel!$G$67 -> 6 | H36: =02_Flächenspiegel!$J$67 -> 892.8
B37: =02_Flächenspiegel!$B$68 -> Villette 2 W3 | C37: =02_Flächenspiegel!$C$68 -> OG1 | D37: =02_Flächenspiegel!$D$68 -> Wohnen | E37: =02_Flächenspiegel!$E$68 -> 5.5 Zi.-Whg. | F37: =02_Flächenspiegel!$F$68 -> 179.5 | G37: =02_Flächenspiegel!$G$68 -> 6 | H37: =02_Flächenspiegel!$J$68 -> 1077
B38: =02_Flächenspiegel!$B$69 -> Villette 2 W3 | C38: =02_Flächenspiegel!$C$69 -> OG1 | D38: =02_Flächenspiegel!$D$69 -> Wohnen | E38: =02_Flächenspiegel!$E$69 -> 4.5 Zi.-Whg. | F38: =02_Flächenspiegel!$F$69 -> 148.8 | G38: =02_Flächenspiegel!$G$69 -> 6 | H38: =02_Flächenspiegel!$J$69 -> 892.8
B39: =02_Flächenspiegel!$B$70 -> Villette 2 W3 | C39: =02_Flächenspiegel!$C$70 -> OG2 | D39: =02_Flächenspiegel!$D$70 -> Wohnen | E39: =02_Flächenspiegel!$E$70 -> 5.5 Zi.-Whg. | F39: =02_Flächenspiegel!$F$70 -> 183.1 | G39: =02_Flächenspiegel!$G$70 -> 6 | H39: =02_Flächenspiegel!$J$70 -> 1098.6
B40: =02_Flächenspiegel!$B$71 -> Villette 2 W3 | C40: =02_Flächenspiegel!$C$71 -> OG2 | D40: =02_Flächenspiegel!$D$71 -> Wohnen | E40: =02_Flächenspiegel!$E$71 -> 4.5 Zi.-Whg. | F40: =02_Flächenspiegel!$F$71 -> 152.1 | G40: =02_Flächenspiegel!$G$71 -> 6 | H40: =02_Flächenspiegel!$J$71 -> 912.6
B41: =02_Flächenspiegel!$B$72 -> Villette 2 W3 | C41: =02_Flächenspiegel!$C$72 -> AT | D41: =02_Flächenspiegel!$D$72 -> Wohnen | E41: =02_Flächenspiegel!$E$72 -> 3.5 Zi.-Whg. | F41: =02_Flächenspiegel!$F$72 -> 119.2 | G41: =02_Flächenspiegel!$G$72 -> 6 | H41: =02_Flächenspiegel!$J$72 -> 715.2
B42: =02_Flächenspiegel!$B$73 -> Villette 2 W3 | C42: =02_Flächenspiegel!$C$73 -> AT | D42: =02_Flächenspiegel!$D$73 -> Wohnen | E42: =02_Flächenspiegel!$E$73 -> 3.5 Zi.-Whg. | F42: =02_Flächenspiegel!$F$73 -> 97.2 | G42: =02_Flächenspiegel!$G$73 -> 6 | H42: =02_Flächenspiegel!$J$73 -> 583.2

Sheet 07_Planung & Agenda
B2: Planung & Agenda — Phasen, Planungsbudget CHF 10 Mio und Mittelverwendung
B3: Phasen A → B → D → C · Bauablauf Stand 17.09.2026 · Mittelverwendung Planung +24 Monate (Q4 2026 – Q3 2028) · gelbe Zellen = Annahmen
B5: 1 PHASEN UND PLANUNGSBUDGET
B6: Phase | C6: Projektteile | D6: Planungs- budget Mio | E6: Anteil Budget | F6: EK notwendig Mio | G6: Budget % EK | H6: Residualwert Mio (AK) | I6: Ertragswert Mio | J6: Bezug
B7: Phase A | C7: Villette I inkl. TG Villette | D7: =16_Residualwert!$K$71 -> 3.5 | E7: =D7/$D$12 -> 0.35 | F7: =16_Residualwert!$E$71 -> 19.515675 | G7: =IF(F7=0,0,D7/F7) -> 0.17934301 | H7: =16_Residualwert!$G$71 -> 10.484325 | I7: =16_Residualwert!$H$71 -> 29.723702 | J7: =G17 -> Q1 2029
B8: Phase B | C8: Concierge ACE + Spitex Umbau inkl. öffentliche TG | D8: =16_Residualwert!$K$72 -> 2.5 | E8: =D8/$D$12 -> 0.25 | F8: =16_Residualwert!$E$72 -> 23.808623 | G8: =IF(F8=0,0,D8/F8) -> 0.10500397 | H8: =16_Residualwert!$G$72 -> 11.7536 | I8: =16_Residualwert!$H$72 -> 35.847176 | J8: =G18 -> Q4 2029
B9: Phase D | C9: Campus Small + Campus Medium | D9: =16_Residualwert!$K$73 -> 2 | E9: =D9/$D$12 -> 0.2 | F9: =16_Residualwert!$E$73 -> 27.263728 | G9: =IF(F9=0,0,D9/F9) -> 0.073357539 | H9: =16_Residualwert!$G$73 -> 9.7362718 | I9: =16_Residualwert!$H$73 -> 37.048441 | J9: =G19 -> Q1 2030
B10: Phase C | C10: Villette II | D10: =16_Residualwert!$K$74 -> 0.5 | E10: =D10/$D$12 -> 0.05 | F10: =16_Residualwert!$E$74 -> 38.582833 | G10: =IF(F10=0,0,D10/F10) -> 0.012959131 | H10: =16_Residualwert!$G$74 -> 31.417167 | I10: =16_Residualwert!$H$74 -> 59.653 | J10: =G20 -> Q4 2031 (Reserve 2032/33)
B11: NK | C11: Nebenkosten arealweit | D11: =16_Residualwert!$E$54 -> 1.5 | E11: =D11/$D$12 -> 0.15
C12: Total Planungsbudget | D12: =SUM(D7:D11) -> 10 | E12: =SUM(E7:E11) -> 1 | F12: =SUM(F7:F10) -> 109.17086 | G12: =IF(F12=0,0,SUM(D7:D10)/F12) -> 0.077859605 | H12: =SUM(H7:H10) -> 63.391363 | I12: =SUM(I7:I10) -> 162.27232
B13: Rahmen Planungsbudget CHF 10 Mio (Budgetplanung +24 Monate). Differenz zum Rahmen: | G13: =D12-10 -> 0
B15: 2 BAUABLAUF JE PHASE (Stand 17.09.2026)
B16: Phase | C16: Projektteile | D16: Zonenänderung | E16: Baueingabe | F16: Baustart | G16: Bauende / Bezug | H16: Bemerkung
B17: Phase A | C17: Villette I inkl. TG Villette | D17: – | E17: 22.07.2026 (eingereicht) | F17: Q1 2028 | G17: Q1 2029 | H17: Baugespann 03.08.2026; TG Villette 55 PP
B18: Phase B | C18: Concierge ACE + Spitex Umbau inkl. öffentliche TG | D18: – | E18: Q2 2027 | F18: Q2 2028 | G18: Q4 2029 | H18: Concierge ACE, Spitex Umbau, öffentliche TG 101 PP
B19: Phase D | C19: Campus Small + Campus Medium | D19: – | E19: Q2 2027 | F19: Q2 2028 | G19: Q1 2030 | H19: Campus Small + Medium, TU-Offerte
B20: Phase C | C20: Villette II | D20: Q1 2027 | E20: Q1 2029 (nach Bewilligung Zonenänderung) | F20: offen | G20: Q4 2031 (Reserve 2032/33) | H20: Zonenänderung nötig, ca. 2 Jahre; Termine provisorisch
B23: 3 MITTELVERWENDUNG PLANUNG — +24 MONATE
B24: Anteil je Quartal | C24: Budget Mio | D24: Q4 2026 | E24: Q1 2027 | F24: Q2 2027 | G24: Q3 2027 | H24: Q4 2027 | I24: Q1 2028 | J24: Q2 2028 | K24: Q3 2028 | L24: Summe
B25: Phase A | C25: =D7 -> 3.5 | D25: 0.15 | E25: 0.15 | F25: 0.15 | G25: 0.15 | H25: 0.15 | I25: 0.15 | J25: 0.05 | K25: 0.05 | L25: =SUM(D25:K25) -> 1
B26: Phase B | C26: =D8 -> 2.5 | D26: 0.1 | E26: 0.15 | F26: 0.2 | G26: 0.1 | H26: 0.1 | I26: 0.15 | J26: 0.15 | K26: 0.05 | L26: =SUM(D26:K26) -> 1
B27: Phase D | C27: =D9 -> 2 | D27: 0.1 | E27: 0.15 | F27: 0.2 | G27: 0.1 | H27: 0.1 | I27: 0.15 | J27: 0.15 | K27: 0.05 | L27: =SUM(D27:K27) -> 1
B28: Phase C | C28: =D10 -> 0.5 | D28: 0.2 | E28: 0.3 | F28: 0.2 | G28: 0.1 | H28: 0.1 | I28: 0.05 | J28: 0.05 | K28: 0 | L28: =SUM(D28:K28) -> 1
B29: Nebenkosten | C29: =D11 -> 1.5 | D29: 0.125 | E29: 0.125 | F29: 0.125 | G29: 0.125 | H29: 0.125 | I29: 0.125 | J29: 0.125 | K29: 0.125 | L29: =SUM(D29:K29) -> 1
B31: Mittelabfluss CHF | C31: Budget CHF | D31: Q4 2026 | E31: Q1 2027 | F31: Q2 2027 | G31: Q3 2027 | H31: Q4 2027 | I31: Q1 2028 | J31: Q2 2028 | K31: Q3 2028 | L31: Summe
B32: Phase A | C32: =C25*1000000 -> 3500000 | D32: =$C32*D25 -> 525000 | E32: =$C32*E25 -> 525000 | F32: =$C32*F25 -> 525000 | G32: =$C32*G25 -> 525000 | H32: =$C32*H25 -> 525000 | I32: =$C32*I25 -> 525000 | J32: =$C32*J25 -> 175000 | K32: =$C32*K25 -> 175000 | L32: =SUM(D32:K32) -> 3500000
B33: Phase B | C33: =C26*1000000 -> 2500000 | D33: =$C33*D26 -> 250000 | E33: =$C33*E26 -> 375000 | F33: =$C33*F26 -> 500000 | G33: =$C33*G26 -> 250000 | H33: =$C33*H26 -> 250000 | I33: =$C33*I26 -> 375000 | J33: =$C33*J26 -> 375000 | K33: =$C33*K26 -> 125000 | L33: =SUM(D33:K33) -> 2500000
B34: Phase D | C34: =C27*1000000 -> 2000000 | D34: =$C34*D27 -> 200000 | E34: =$C34*E27 -> 300000 | F34: =$C34*F27 -> 400000 | G34: =$C34*G27 -> 200000 | H34: =$C34*H27 -> 200000 | I34: =$C34*I27 -> 300000 | J34: =$C34*J27 -> 300000 | K34: =$C34*K27 -> 100000 | L34: =SUM(D34:K34) -> 2000000
B35: Phase C | C35: =C28*1000000 -> 500000 | D35: =$C35*D28 -> 100000 | E35: =$C35*E28 -> 150000 | F35: =$C35*F28 -> 100000 | G35: =$C35*G28 -> 50000 | H35: =$C35*H28 -> 50000 | I35: =$C35*I28 -> 25000 | J35: =$C35*J28 -> 25000 | K35: =$C35*K28 -> 0 | L35: =SUM(D35:K35) -> 500000
B36: Nebenkosten | C36: =C29*1000000 -> 1500000 | D36: =$C36*D29 -> 187500 | E36: =$C36*E29 -> 187500 | F36: =$C36*F29 -> 187500 | G36: =$C36*G29 -> 187500 | H36: =$C36*H29 -> 187500 | I36: =$C36*I29 -> 187500 | J36: =$C36*J29 -> 187500 | K36: =$C36*K29 -> 187500 | L36: =SUM(D36:K36) -> 1500000
B37: Total je Quartal | C37: =SUM(C32:C36) -> 10000000 | D37: =SUM(D32:D36) -> 1262500 | E37: =SUM(E32:E36) -> 1537500 | F37: =SUM(F32:F36) -> 1712500 | G37: =SUM(G32:G36) -> 1212500 | H37: =SUM(H32:H36) -> 1212500 | I37: =SUM(I32:I36) -> 1412500 | J37: =SUM(J32:J36) -> 1062500 | ... L37: =SUM(L32:L36) -> 10000000
B38: kumuliert | D38: =SUM($D$37:D37) -> 1262500 | E38: =SUM($D$37:E37) -> 2800000 | F38: =SUM($D$37:F37) -> 4512500 | G38: =SUM($D$37:G37) -> 5725000 | H38: =SUM($D$37:H37) -> 6937500 | I38: =SUM($D$37:I37) -> 8350000 | J38: =SUM($D$37:J37) -> 9412500 | K38: =SUM($D$37:K37) -> 10000000
B39: kumuliert in % des Rahmens | D39: =D38/($D$12*1000000) -> 0.12625 | E39: =E38/($D$12*1000000) -> 0.28 | F39: =F38/($D$12*1000000) -> 0.45125 | G39: =G38/($D$12*1000000) -> 0.5725 | H39: =H38/($D$12*1000000) -> 0.69375 | I39: =I38/($D$12*1000000) -> 0.835 | J39: =J38/($D$12*1000000) -> 0.94125 | K39: =K38/($D$12*1000000) -> 1
B41: 4 MEILENSTEINE IM BUDGETZEITRAUM
B42: Phase | D42: Q4 2026 | E42: Q1 2027 | F42: Q2 2027 | G42: Q3 2027 | H42: Q4 2027 | I42: Q1 2028 | J42: Q2 2028 | K42: Q3 2028
B43: Phase A | I43: S Baustart
B44: Phase B | F44: E Baueingabe | J44: S Baustart
B45: Phase D | F45: E Baueingabe | J45: S Baustart
B46: Phase C | E46: Z Zonenänderung
B48: Z = Zonenänderung · E = Baueingabe · S = Baustart (Bauablauf 17.09.2026). Villette I: Baueingabe 22.07.2026 bereits erfolgt, Bewilligung und Ausführungsplanung laufen im Budgetzeitraum.
...

Sheet 08_Annahmen
B2: Annahmen und Regler
B3: Blau = Eingabe · gelb = Schlüsselannahme · Grün = Verweis · Schwarz = Formel. Alle Rechenblätter rechnen ausschliesslich gegen dieses Blatt.
B5: Szenario (1 = Konservativ · 2 = Basis · 3 = Topsegment · 4 = Individuell) | C5: 2 | D5: =INDEX(09_Szenarien!$C$6:$F$6,$C$5) -> Basis
B7: GLOBALE PARAMETER
B8: Parameter | C8: Wert | D8: Einheit | E8: Herkunft
B9: Mikrolagezuschlag (Park, Aare, Nachbarschaft ABB/Hitachi) | C9: =INDEX(09_Szenarien!$C$8:$F$8,$C$5) -> 0.05 | E9: Szenario
B10: Parkingmiete Wohnen | C10: =INDEX(09_Szenarien!$C$9:$F$9,$C$5) -> 200 | D10: CHF/Monat | E10: Szenario
B11: Parkingmiete Geschäft | C11: =INDEX(09_Szenarien!$C$10:$F$10,$C$5) -> 165 | D11: CHF/Monat | E11: Szenario
B12: Faktor Gemeinschaftszonen (Ertragsanteil) | C12: 0.55 | E12: Eigene Setzung
B13: Anteil Verkaufscharakter in den Gewerbeflächen | C13: 0.35 | E13: Eigene Setzung
B14: Mietniveau-Shift (Stresstest, additiv auf alle Mieten) | C14: 0 | E14: Eigene Setzung
B15: Kapitalisierungssatz-Shift (Stresstest) | C15: 0 | E15: Eigene Setzung
B16: Exit-Zuschlag auf Kapitalisierungssatz (DCF) | C16: 0.0015 | E16: Alterung über 10 Jahre
B17: DCF-Betrachtungsperiode | C17: 10 | D17: Jahre | E17: Eigene Setzung
B20: NUTZUNGSPARAMETER
B21: Nutzung | C21: Referenzmiete CHF/m²a | D21: Bezugsfläche m² | E21: Degressions- exponent | F21: Qualitäts- zuschlag | G21: Mietzins- ausfall | H21: Bewirtschaftung % Sollertrag | I21: FPRE-Diskont- satz | J21: Risiko- zuschlag | K21: Netto-Kapitali- sierungssatz | L21: Mietwachstum p.a. (DCF) | M21: Erstvermietung Ausfall J1 | N21: Parking- schlüssel
B22: Wohnen | C22: ='10_Marktdaten FPRE'!$C$8 -> 271.2 | D22: 100 | E22: 0.31 | F22: =INDEX(09_Szenarien!$C$13:$F$13,$C$5) -> 0.25 | G22: =INDEX(09_Szenarien!$C$21:$F$21,$C$5) -> 0.02 | H22: 0.13 | I22: ='10_Marktdaten FPRE'!$C$16 -> 0.031 | J22: =INDEX(09_Szenarien!$C$29:$F$29,$C$5) -> 0.003 | K22: =I22+J22+$C$15 -> 0.034 | L22: 0.01 | M22: 0.35 | N22: 1.4
B23: Residenz | C23: ='10_Marktdaten FPRE'!$C$8 -> 271.2 | D23: 100 | E23: 0.31 | F23: =INDEX(09_Szenarien!$C$14:$F$14,$C$5) -> 0.18 | G23: =INDEX(09_Szenarien!$C$22:$F$22,$C$5) -> 0.03 | H23: 0.14 | I23: ='10_Marktdaten FPRE'!$C$16 -> 0.031 | J23: =INDEX(09_Szenarien!$C$30:$F$30,$C$5) -> 0.007 | K23: =I23+J23+$C$15 -> 0.038 | L23: 0.01 | M23: 0.4 | N23: 0.6
B24: Wotel | C24: ='10_Marktdaten FPRE'!$C$8 -> 271.2 | D24: 100 | E24: 0.31 | F24: =INDEX(09_Szenarien!$C$15:$F$15,$C$5) -> 0.55 | G24: =INDEX(09_Szenarien!$C$23:$F$23,$C$5) -> 0.08 | H24: 0.22 | I24: ='10_Marktdaten FPRE'!$C$16 -> 0.031 | J24: =INDEX(09_Szenarien!$C$31:$F$31,$C$5) -> 0.021 | K24: =I24+J24+$C$15 -> 0.052 | L24: 0.01 | M24: 0.45 | N24: 0.5
B25: Büro | C25: ='10_Marktdaten FPRE'!$C$9 -> 182 | D25: 150 | E25: 0.14 | F25: =INDEX(09_Szenarien!$C$16:$F$16,$C$5) -> 0.18 | G25: =INDEX(09_Szenarien!$C$24:$F$24,$C$5) -> 0.06 | H25: 0.09 | I25: ='10_Marktdaten FPRE'!$C$17 -> 0.044 | J25: =INDEX(09_Szenarien!$C$32:$F$32,$C$5) -> 0.007 | K25: =I25+J25+$C$15 -> 0.051 | L25: 0.003 | M25: 0.45 | N25: 2.5
B26: Gewerbe | C26: =$C$13*'10_Marktdaten FPRE'!$C$11+(1-$C$13)*'10_Marktdaten FPRE'!$C$10 -> 172.35 | D26: 150 | E26: 0.14 | F26: =INDEX(09_Szenarien!$C$17:$F$17,$C$5) -> 0.15 | G26: =INDEX(09_Szenarien!$C$25:$F$25,$C$5) -> 0.05 | H26: 0.08 | I26: ='10_Marktdaten FPRE'!$C$19 -> 0.051 | J26: =INDEX(09_Szenarien!$C$33:$F$33,$C$5) -> 0.005 | K26: =I26+J26+$C$15 -> 0.056 | L26: 0.005 | M26: 0.4 | N26: 2
B27: Parking | C27: — | D27: — | E27: — | F27: =INDEX(09_Szenarien!$C$18:$F$18,$C$5) -> 0 | G27: =INDEX(09_Szenarien!$C$26:$F$26,$C$5) -> 0.05 | H27: 0.08 | I27: 0 | J27: =INDEX(09_Szenarien!$C$34:$F$34,$C$5) -> 0.045 | K27: =I27+J27+$C$15 -> 0.045 | L27: 0.01 | M27: 0.4 | N27: —
B28: Saal | C28: =IF($C$50=0,0,$C$49/$C$50/(1+$C$9)) -> 544.93711 | D28: 100 | E28: 0 | F28: 0 | G28: 0.1 | H28: 0.35 | I28: ='10_Marktdaten FPRE'!$C$19 -> 0.051 | J28: 0.015 | K28: =I28+J28+$C$15 -> 0.066 | L28: 0.005 | M28: 0.5 | N28: —
B29: Parking öffentlich | C29: — | D29: — | E29: — | F29: 0 | G29: 0.05 | H29: 0.18 | I29: 0 | J29: 0.05 | K29: =I29+J29+$C$15 -> 0.05 | L29: 0.01 | M29: 0.4 | N29: —
B31: Marktmiete je Einheit = Referenzmiete × (Bezugsfläche ÷ HNF)^Degressionsexponent × (1 + Qualitätszuschlag) × (1 + Mikrolagezuschlag) × (1 + Mietniveau-Shift)
B32: Nettokapitalisierungssatz = FPRE-Diskontierungssatz (netto, real) + Risikozuschlag + Stress-Shift. Parking: Risikozuschlag = absoluter Satz (FPRE ohne eigenen Satz für Abstellplätze).
B33: Degressionsexponent 0.31 aus der FPRE-Zimmergrössenreihe Untersiggenthal (1.5-Zi 377 · 2.5-Zi 307 · 3.5-Zi 291 · 4.5-Zi 271 CHF/m² HNF a; R² > 0.99).
B34: Gewerbe: Miete als Mischung Gewerbe/Verkauf (35 % Verkaufscharakter), Diskontsatz bewusst mit dem höheren reinen Gewerbesatz 5.10 %.
B35: Saal: Referenzmiete = Sollertrag Eventbetrieb ÷ HNF (Blatt 08, Zeilen 43–51); Mietzinsausfall = Buchungsschwankung, Bewirtschaftung = Betrieb (Reinigung, Technik, Hauswart, Buchung). Risikozuschlag +1.5 %-Pkt. auf Gewerbe = Betreiberrisiko.
B36: Parking öffentlich: Ertrag aus dem TG-Betriebsmodell (Zeilen 54–72); Bewirtschaftung 18 % = Parkpay-/App-Kommission, Kontrolle, Unterhalt, Beleuchtung, Reinigung; Satz 5.0 % (Parking 4.5 % + 0.5 %-Pkt. für Auslastungsrisiko).
B40: EVENTSAAL CONCIERGE ACE — UG, ins Erdreich abgesenkt, doppelgeschossig
B41: Parameter | C41: Wert | D41: Einheit | E41: Herleitung / Bemerkung
B43: Anlässe pro Jahr (Abende, Wochenenden) | C43: 120 | D43: Anz. | E43: Ambitioniert, analog Parking-Annahme (Vorgabe Zin 28.09.2026)
B44: Tagesmiete Anlass (Saal inkl. Grundausstattung) | C44: 3500 | D44: CHF | E44: Saal ~1'000 m² HNF, Region Baden; Technik/Catering separat verrechnet
B45: Tagungen / Seminare werktags (ABB, Hitachi, Firmen) | C45: 80 | D45: Tage | E45: Nähe zu ~1'200 Arbeitsplätzen ABB
B46: Tagesmiete Tagung / Seminar | C46: 2000 | D46: CHF | E46: Werktagstarif
B47: Ertrag Anlässe | C47: =C43*C44 -> 420000 | D47: CHF/Jahr
B48: Ertrag Tagungen | C48: =C45*C46 -> 160000 | D48: CHF/Jahr
B49: SOLLERTRAG SAAL | C49: =C47+C48 -> 580000 | D49: CHF/Jahr | E49: brutto, vor Buchungsausfall und Betrieb (Zeile 28)
B50: HNF Saal (aus Flächen & Mieten) | C50: =SUMIFS('11_Flächen & Mieten'!$I$7:$I$400,'11_Flächen & Mieten'!$H$7:$H$400,"Saal") -> 1013.66 | D50: m²
...

Sheet 09_Szenarien
B2: Szenarien — Parametersätze
B3: Die Auswahl erfolgt auf dem Blatt «Annahmen» in Zelle C4. Spalte «Individuell» ist frei editierbar (blau).
B4: Szenario-Nummer | C4: 1 | D4: 2 | E4: 3 | F4: 4
B5: Parameter | C5: Konservativ | D5: Basis | E5: Topsegment | F5: Individuell
B6: Bezeichnung | C6: Konservativ | D6: Basis | E6: Topsegment | F6: Individuell
B7: GLOBAL
B8: Mikrolagezuschlag (alle Nutzungen) | C8: 0 | D8: 0.05 | E8: 0.08 | F8: 0.05
B9: Parkingmiete Wohnen (CHF/Monat) | C9: 170 | D9: 200 | E9: 230 | F9: 200
B10: Parkingmiete Geschäft (CHF/Monat) | C10: 140 | D10: 165 | E10: 185 | F10: 165
B12: QUALITÄTS- UND AUSBAUZUSCHLAG je Nutzung
B13: Wohnen | C13: 0.12 | D13: 0.25 | E13: 0.35 | F13: 0.25
B14: Residenz | C14: 0.08 | D14: 0.18 | E14: 0.25 | F14: 0.18
B15: Wotel | C15: 0.35 | D15: 0.55 | E15: 0.7 | F15: 0.55
B16: Büro | C16: 0.05 | D16: 0.18 | E16: 0.3 | F16: 0.18
B17: Gewerbe | C17: 0.05 | D17: 0.15 | E17: 0.25 | F17: 0.15
B18: Parking | C18: 0 | D18: 0 | E18: 0 | F18: 0
B20: MIETZINSAUSFALL, stabilisiert
B21: Wohnen | C21: 0.035 | D21: 0.02 | E21: 0.015 | F21: 0.02
B22: Residenz | C22: 0.045 | D22: 0.03 | E22: 0.02 | F22: 0.03
B23: Wotel | C23: 0.12 | D23: 0.08 | E23: 0.06 | F23: 0.08
B24: Büro | C24: 0.09 | D24: 0.06 | E24: 0.045 | F24: 0.06
B25: Gewerbe | C25: 0.075 | D25: 0.05 | E25: 0.035 | F25: 0.05
B26: Parking | C26: 0.07 | D26: 0.05 | E26: 0.04 | F26: 0.05
B28: RISIKOZUSCHLAG auf FPRE-Diskontierungssatz
B29: Wohnen | C29: 0.0065 | D29: 0.003 | E29: 0.0005 | F29: 0.003
B30: Residenz | C30: 0.011 | D30: 0.007 | E30: 0.004 | F30: 0.007
B31: Wotel | C31: 0.0265 | D31: 0.021 | E31: 0.0175 | F31: 0.021
B32: Büro | C32: 0.0125 | D32: 0.007 | E32: 0.0035 | F32: 0.007
B33: Gewerbe | C33: 0.01 | D33: 0.005 | E33: 0.0015 | F33: 0.005
B34: Parking | C34: 0.049 | D34: 0.045 | E34: 0.042 | F34: 0.045
B37: Hinweis: Der Risikozuschlag für Parking ist als absoluter Nettokapitalisierungssatz zu lesen (FPRE führt für Abstellplätze keinen eigenen Diskontierungssatz; der Basiswert ist auf 0 gesetzt).
B41: ERGEBNISVERGLEICH DER SZENARIEN
B42: Hochrechnung aus dem aktiven Modell: Qualitäts- und Mikrolagezuschlag multiplikativ auf die Miete, Risikozuschlag additiv auf den Kapitalisierungssatz. Eventsaal und öffentliches Parking sind szenariounabhängig (eigene Parameter, Blatt 08).
B45: Kennzahl | C45: Konservativ | D45: Basis | E45: Topsegment | F45: Individuell
